BEGIN:VCALENDAR
VERSION:2.0
PRODID:-//Church of the Resurrection - Burtonsville, MD - ECPv6.15.18//NONSGML v1.0//EN
CALSCALE:GREGORIAN
METHOD:PUBLISH
X-ORIGINAL-URL:https://resurrectionadw.org
X-WR-CALDESC:Events for Church of the Resurrection - Burtonsville, MD
REFRESH-INTERVAL;VALUE=DURATION:PT1H
X-Robots-Tag:noindex
X-PUBLISHED-TTL:PT1H
BEGIN:VTIMEZONE
TZID:America/New_York
BEGIN:DAYLIGHT
TZOFFSETFROM:-0500
TZOFFSETTO:-0400
TZNAME:EDT
DTSTART:20250309T070000
END:DAYLIGHT
BEGIN:STANDARD
TZOFFSETFROM:-0400
TZOFFSETTO:-0500
TZNAME:EST
DTSTART:20251102T060000
END:STANDARD
BEGIN:DAYLIGHT
TZOFFSETFROM:-0500
TZOFFSETTO:-0400
TZNAME:EDT
DTSTART:20260308T070000
END:DAYLIGHT
BEGIN:STANDARD
TZOFFSETFROM:-0400
TZOFFSETTO:-0500
TZNAME:EST
DTSTART:20261101T060000
END:STANDARD
BEGIN:DAYLIGHT
TZOFFSETFROM:-0500
TZOFFSETTO:-0400
TZNAME:EDT
DTSTART:20270314T070000
END:DAYLIGHT
BEGIN:STANDARD
TZOFFSETFROM:-0400
TZOFFSETTO:-0500
TZNAME:EST
DTSTART:20271107T060000
END:STANDARD
END:VTIMEZONE
BEGIN:VEVENT
DTSTART;TZID=America/New_York:20260426T140000
DTEND;TZID=America/New_York:20260426T170000
DTSTAMP:20260420T151825
CREATED:20170503T202806Z
LAST-MODIFIED:20171106T173858Z
UID:10014983-1777212000-1777222800@resurrectionadw.org
SUMMARY:Mass - Cameroonian Community
DESCRIPTION:
URL:https://resurrectionadw.org/event/mass-cameroonian-community/2026-04-26/
END:VEVENT
BEGIN:VEVENT
DTSTART;TZID=America/New_York:20260428T190000
DTEND;TZID=America/New_York:20260428T210000
DTSTAMP:20260420T151825
CREATED:20241119T161354Z
LAST-MODIFIED:20241119T161354Z
UID:10163813-1777402800-1777410000@resurrectionadw.org
SUMMARY:Women's Ministry Bible Study
DESCRIPTION:
URL:https://resurrectionadw.org/event/womens-ministry-bible-study/2026-04-28/
LOCATION:Youth Center\, 3315 Greencastle Rd\, Burtonsville\, MD\, 20866-1713\, United States
GEO:39.0971633;-76.94343
X-APPLE-STRUCTURED-LOCATION;VALUE=URI;X-ADDRESS=Youth Center 3315 Greencastle Rd Burtonsville MD 20866-1713 United States;X-APPLE-RADIUS=500;X-TITLE=3315 Greencastle Rd:geo:-76.94343,39.0971633
END:VEVENT
BEGIN:VEVENT
DTSTART;TZID=America/New_York:20260502T073000
DTEND;TZID=America/New_York:20260502T090000
DTSTAMP:20260420T151825
CREATED:20260308T225516Z
LAST-MODIFIED:20260308T225517Z
UID:10164132-1777707000-1777712400@resurrectionadw.org
SUMMARY:First Saturdays: Mass\, Holy Hour\, Confessions\, Benediction
DESCRIPTION:First Saturday events will resume on Saturday\, May 2nd \nFirst Saturday mornings at Resurrection:\nSilent Adoration (with confessions)\, ending with a simple Benediction from 7:30 am – 8:30 am\nFirst Saturday Mass at 8:30 a.m\nConfessions are held during Adoration\, in the Reconciliation Room.
URL:https://resurrectionadw.org/event/first-saturdays-mass-holy-hour-confessions-benediction-2023-05-06-2-2/2026-05-02/
CATEGORIES:Featured
ATTACH;FMTTYPE=image/jpeg:https://resurrectionadw.org/wp-content/uploads/2022/03/pope-francis-fatima.web_.jpg
END:VEVENT
END:VCALENDAR