BEGIN:VCALENDAR
VERSION:2.0
PRODID:-//Church of the Resurrection - Burtonsville, MD - ECPv6.15.18//NONSGML v1.0//EN
CALSCALE:GREGORIAN
METHOD:PUBLISH
X-ORIGINAL-URL:https://resurrectionadw.org
X-WR-CALDESC:Events for Church of the Resurrection - Burtonsville, MD
REFRESH-INTERVAL;VALUE=DURATION:PT1H
X-Robots-Tag:noindex
X-PUBLISHED-TTL:PT1H
BEGIN:VTIMEZONE
TZID:America/New_York
BEGIN:DAYLIGHT
TZOFFSETFROM:-0500
TZOFFSETTO:-0400
TZNAME:EDT
DTSTART:20250309T070000
END:DAYLIGHT
BEGIN:STANDARD
TZOFFSETFROM:-0400
TZOFFSETTO:-0500
TZNAME:EST
DTSTART:20251102T060000
END:STANDARD
BEGIN:DAYLIGHT
TZOFFSETFROM:-0500
TZOFFSETTO:-0400
TZNAME:EDT
DTSTART:20260308T070000
END:DAYLIGHT
BEGIN:STANDARD
TZOFFSETFROM:-0400
TZOFFSETTO:-0500
TZNAME:EST
DTSTART:20261101T060000
END:STANDARD
BEGIN:DAYLIGHT
TZOFFSETFROM:-0500
TZOFFSETTO:-0400
TZNAME:EDT
DTSTART:20270314T070000
END:DAYLIGHT
BEGIN:STANDARD
TZOFFSETFROM:-0400
TZOFFSETTO:-0500
TZNAME:EST
DTSTART:20271107T060000
END:STANDARD
END:VTIMEZONE
BEGIN:VEVENT
DTSTART;TZID=America/New_York:20260324T190000
DTEND;TZID=America/New_York:20260324T210000
DTSTAMP:20260421T225531
CREATED:20241119T161354Z
LAST-MODIFIED:20241119T161354Z
UID:10163808-1774378800-1774386000@resurrectionadw.org
SUMMARY:Women's Ministry Bible Study
DESCRIPTION:
URL:https://resurrectionadw.org/event/womens-ministry-bible-study/2026-03-24/
LOCATION:Youth Center\, 3315 Greencastle Rd\, Burtonsville\, MD\, 20866-1713\, United States
GEO:39.0971633;-76.94343
X-APPLE-STRUCTURED-LOCATION;VALUE=URI;X-ADDRESS=Youth Center 3315 Greencastle Rd Burtonsville MD 20866-1713 United States;X-APPLE-RADIUS=500;X-TITLE=3315 Greencastle Rd:geo:-76.94343,39.0971633
END:VEVENT
BEGIN:VEVENT
DTSTART;TZID=America/New_York:20260324T190000
DTEND;TZID=America/New_York:20260324T203000
DTSTAMP:20260421T225531
CREATED:20260308T231756Z
LAST-MODIFIED:20260308T231756Z
UID:10164227-1774378800-1774384200@resurrectionadw.org
SUMMARY:Parish Lenten Mission - 3 evenings\, 7:00 pm
DESCRIPTION:The Mission will be led by Fr. Dominic Sultana. The theme will be: “You Are Made For More: Awaken God’s Dream In You.”\nFr. Sultana is a Catholic priest from the island of Gozo\, Malta\, known for his work in spiritual theology\, pastoral ministry\, and as an author. Fr. Dominic has authored several books focusing on spirituality\, prayer\, and Catholic life. He holds a doctorate in spiritual theology (Rome) and has also trained with renowned motivational speakers.
URL:https://resurrectionadw.org/event/parish-lenten-mission-3-evenings-700-pm/2026-03-24/
CATEGORIES:Community,Featured,Lenten Activities
ATTACH;FMTTYPE=image/jpeg:https://resurrectionadw.org/wp-content/uploads/2026/03/Dominic-Saltana.jpg
END:VEVENT
BEGIN:VEVENT
DTSTART;TZID=America/New_York:20260324T094500
DTEND;TZID=America/New_York:20260324T110000
DTSTAMP:20260421T225531
CREATED:20260216T181659Z
LAST-MODIFIED:20260218T165413Z
UID:10164212-1774345500-1774350000@resurrectionadw.org
SUMMARY:Women's Bible Study
DESCRIPTION:Are you looking to follow Jesus more closely this Lent and in years to come? Join us for our Bible Study using Witness: a Guided Lent Journal for Prayer and Meditation. Each session will include scripture reading\, discussion questions\, and a practical action item for each of six virtues found in the Passion narratives—Repentance\, Trust\, Compassion\, Humility\, Courage\, and Sacrifice.\nTuesdays\, February 24th – April 7th in the Youth Center.\nTwo sessions: 9:45 am – 11 am or 7:00 pm – 8:15 pm.\nPurchase a book from us ($12) before Ash Wednesday or purchase one on your own.
URL:https://resurrectionadw.org/event/womens-bible-study/2026-03-24/
LOCATION:Youth Center\, 3315 Greencastle Rd\, Burtonsville\, MD\, 20866-1713\, United States
CATEGORIES:Community,Featured,Lenten Activities
ATTACH;FMTTYPE=image/jpeg:https://resurrectionadw.org/wp-content/uploads/2026/02/Witness-e1771265661182.jpg
GEO:39.0971633;-76.94343
X-APPLE-STRUCTURED-LOCATION;VALUE=URI;X-ADDRESS=Youth Center 3315 Greencastle Rd Burtonsville MD 20866-1713 United States;X-APPLE-RADIUS=500;X-TITLE=3315 Greencastle Rd:geo:-76.94343,39.0971633
END:VEVENT
BEGIN:VEVENT
DTSTART;TZID=America/New_York:20260323T190000
DTEND;TZID=America/New_York:20260323T203000
DTSTAMP:20260421T225531
CREATED:20260308T231756Z
LAST-MODIFIED:20260308T231756Z
UID:10164226-1774292400-1774297800@resurrectionadw.org
SUMMARY:Parish Lenten Mission - 3 evenings\, 7:00 pm
DESCRIPTION:The Mission will be led by Fr. Dominic Sultana. The theme will be: “You Are Made For More: Awaken God’s Dream In You.”\nFr. Sultana is a Catholic priest from the island of Gozo\, Malta\, known for his work in spiritual theology\, pastoral ministry\, and as an author. Fr. Dominic has authored several books focusing on spirituality\, prayer\, and Catholic life. He holds a doctorate in spiritual theology (Rome) and has also trained with renowned motivational speakers.
URL:https://resurrectionadw.org/event/parish-lenten-mission-3-evenings-700-pm/2026-03-23/
CATEGORIES:Community,Featured,Lenten Activities
ATTACH;FMTTYPE=image/jpeg:https://resurrectionadw.org/wp-content/uploads/2026/03/Dominic-Saltana.jpg
END:VEVENT
BEGIN:VEVENT
DTSTART;TZID=America/New_York:20260322T190000
DTEND;TZID=America/New_York:20260322T203000
DTSTAMP:20260421T225531
CREATED:20260308T231756Z
LAST-MODIFIED:20260308T231756Z
UID:10164225-1774206000-1774211400@resurrectionadw.org
SUMMARY:Parish Lenten Mission - 3 evenings\, 7:00 pm
DESCRIPTION:The Mission will be led by Fr. Dominic Sultana. The theme will be: “You Are Made For More: Awaken God’s Dream In You.”\nFr. Sultana is a Catholic priest from the island of Gozo\, Malta\, known for his work in spiritual theology\, pastoral ministry\, and as an author. Fr. Dominic has authored several books focusing on spirituality\, prayer\, and Catholic life. He holds a doctorate in spiritual theology (Rome) and has also trained with renowned motivational speakers.
URL:https://resurrectionadw.org/event/parish-lenten-mission-3-evenings-700-pm/2026-03-22/
CATEGORIES:Community,Featured,Lenten Activities
ATTACH;FMTTYPE=image/jpeg:https://resurrectionadw.org/wp-content/uploads/2026/03/Dominic-Saltana.jpg
END:VEVENT
END:VCALENDAR