BEGIN:VCALENDAR
VERSION:2.0
PRODID:-//Church of the Resurrection - Burtonsville, MD - ECPv6.15.18//NONSGML v1.0//EN
CALSCALE:GREGORIAN
METHOD:PUBLISH
X-ORIGINAL-URL:https://resurrectionadw.org
X-WR-CALDESC:Events for Church of the Resurrection - Burtonsville, MD
REFRESH-INTERVAL;VALUE=DURATION:PT1H
X-Robots-Tag:noindex
X-PUBLISHED-TTL:PT1H
BEGIN:VTIMEZONE
TZID:America/New_York
BEGIN:DAYLIGHT
TZOFFSETFROM:-0500
TZOFFSETTO:-0400
TZNAME:EDT
DTSTART:20250309T070000
END:DAYLIGHT
BEGIN:STANDARD
TZOFFSETFROM:-0400
TZOFFSETTO:-0500
TZNAME:EST
DTSTART:20251102T060000
END:STANDARD
BEGIN:DAYLIGHT
TZOFFSETFROM:-0500
TZOFFSETTO:-0400
TZNAME:EDT
DTSTART:20260308T070000
END:DAYLIGHT
BEGIN:STANDARD
TZOFFSETFROM:-0400
TZOFFSETTO:-0500
TZNAME:EST
DTSTART:20261101T060000
END:STANDARD
BEGIN:DAYLIGHT
TZOFFSETFROM:-0500
TZOFFSETTO:-0400
TZNAME:EDT
DTSTART:20270314T070000
END:DAYLIGHT
BEGIN:STANDARD
TZOFFSETFROM:-0400
TZOFFSETTO:-0500
TZNAME:EST
DTSTART:20271107T060000
END:STANDARD
END:VTIMEZONE
BEGIN:VEVENT
DTSTART;TZID=America/New_York:20260606T073000
DTEND;TZID=America/New_York:20260606T090000
DTSTAMP:20260424T154011
CREATED:20260308T225516Z
LAST-MODIFIED:20260308T225517Z
UID:10164134-1780731000-1780736400@resurrectionadw.org
SUMMARY:First Saturdays: Mass\, Holy Hour\, Confessions\, Benediction
DESCRIPTION:First Saturday events will resume on Saturday\, May 2nd \nFirst Saturday mornings at Resurrection:\nSilent Adoration (with confessions)\, ending with a simple Benediction from 7:30 am – 8:30 am\nFirst Saturday Mass at 8:30 a.m\nConfessions are held during Adoration\, in the Reconciliation Room.
URL:https://resurrectionadw.org/event/first-saturdays-mass-holy-hour-confessions-benediction-2023-05-06-2-2/2026-06-06/
CATEGORIES:Featured
ATTACH;FMTTYPE=image/jpeg:https://resurrectionadw.org/wp-content/uploads/2022/03/pope-francis-fatima.web_.jpg
END:VEVENT
END:VCALENDAR